BEGIN:VCALENDAR
VERSION:2.0
PRODID:www.codnes.sk
BEGIN:VEVENT
UID:69ed2d7eb4d41
DTSTART:20260425T090000Z
SEQUENCE:0
TRANSP:OPAQUE
DTEND:20260426T180000Z
LOCATION:Bratislava
SUMMARY:Festival záhrad a hobby
CLASS:PUBLIC
DESCRIPTION:Festival záhrad a hobby prinesie do Bratislavy dva dni plné i
 nšpirácie a&nbsp\;zelene. Bratislava sa
DTSTAMP:20260425T210918Z
END:VEVENT
END:VCALENDAR