BEGIN:VCALENDAR
VERSION:2.0
PRODID:www.codnes.sk
BEGIN:VEVENT
UID:69e5e0c60914a
DTSTART:20241118T180000Z
SEQUENCE:0
TRANSP:OPAQUE
DTEND:20241118T220000Z
LOCATION:Bratislava
SUMMARY:Filozofické cvičenia pre rozvoj osobnosti
CLASS:PUBLIC
DESCRIPTION:Workshop pri príležitosti Svetového dňa filozofie je venova
 ný cvičeniam inšpirovaným klasickými zápa
DTSTAMP:20260420T081606Z
END:VEVENT
END:VCALENDAR