BEGIN:VCALENDAR
VERSION:2.0
PRODID:www.codnes.sk
BEGIN:VEVENT
UID:69eba82c6fa42
DTSTART:20260516T090000Z
SEQUENCE:0
TRANSP:OPAQUE
DTEND:20260516T170000Z
LOCATION:Bratislava
SUMMARY:Fotomaratón Bratislava 2026 & Zaves fotku
CLASS:PUBLIC
DESCRIPTION:Fotomaratón Bratislava sa po viac ako 10 rokoch vracia do ulí
 c mesta ako celodenná fotografická výzv
DTSTAMP:20260424T172812Z
END:VEVENT
END:VCALENDAR