BEGIN:VCALENDAR
VERSION:2.0
PRODID:www.codnes.sk
BEGIN:VEVENT
UID:69e5f08fe4704
DTSTART:20260422T190000Z
SEQUENCE:0
TRANSP:OPAQUE
LOCATION:Modra
SUMMARY:FRAGILE &amp\; Peter Lipa
CLASS:PUBLIC
DESCRIPTION:Koncert FRAGILE &amp\;amp\; LIPA je jednoducho oslavou ľudské
 ho hlasu a ukážkou toho\, čo všetko je mož
DTSTAMP:20260420T092327Z
END:VEVENT
END:VCALENDAR