BEGIN:VCALENDAR
VERSION:2.0
PRODID:www.codnes.sk
BEGIN:VEVENT
UID:69ec09314627c
DTSTART:20260426T100000Z
SEQUENCE:0
TRANSP:OPAQUE
DTEND:20260426T180000Z
LOCATION:Bratislava
SUMMARY:Frisbee úlet
CLASS:PUBLIC
DESCRIPTION:Vyskúšajte si zábavné športy s lietajúcim tanierom spolu 
 so Slovenskou asociáciou Frisbee. Naučíte s
DTSTAMP:20260425T002209Z
END:VEVENT
END:VCALENDAR