BEGIN:VCALENDAR
VERSION:2.0
PRODID:www.codnes.sk
BEGIN:VEVENT
UID:69ed3d410fb1f
DTSTART:20260426T120000Z
SEQUENCE:0
TRANSP:OPAQUE
DTEND:20260426T160000Z
LOCATION:Bratislava
SUMMARY:Hrdinovia Zeme
CLASS:PUBLIC
DESCRIPTION:Hrdinovia Zeme je jedinečná interaktívna hudobná rozprávka
 \, ktorá zábavným a pútavým spôsobom pribli
DTSTAMP:20260425T221633Z
END:VEVENT
END:VCALENDAR