BEGIN:VCALENDAR
VERSION:2.0
PRODID:www.codnes.sk
BEGIN:VEVENT
UID:69ec0846007f8
DTSTART:20260425T170000Z
SEQUENCE:0
TRANSP:OPAQUE
DTEND:20260425T180000Z
LOCATION:Bratislava
SUMMARY:Hýb sa bezpečne: sila\, rovnováha a energia po 60-ke s Marošom 
 Molnárom
CLASS:PUBLIC
DESCRIPTION:Príďte na cvičenie s Marošom Molnárom a naučte sa cviči
 ť tak\, aby ste si neublížili\, zlepšili stabil
DTSTAMP:20260425T001814Z
END:VEVENT
END:VCALENDAR