BEGIN:VCALENDAR
VERSION:2.0
PRODID:www.codnes.sk
BEGIN:VEVENT
UID:69ed1b2104507
DTSTART:20260425T100000Z
SEQUENCE:0
TRANSP:OPAQUE
DTEND:20260425T180000Z
LOCATION:Bratislava
SUMMARY:iHRYsko
CLASS:PUBLIC
DESCRIPTION:Čakajú vás desiatky spoločenských hier a hlavolamov pre ma
 lých aj veľkých. Skúsení iHRYskáči vám pom
DTSTAMP:20260425T195057Z
END:VEVENT
END:VCALENDAR