BEGIN:VCALENDAR
VERSION:2.0
PRODID:www.codnes.sk
BEGIN:VEVENT
UID:69e5e0c87dc4b
DTSTART:20260303T170000Z
SEQUENCE:0
TRANSP:OPAQUE
DTEND:20260331T200000Z
LOCATION:Modra
SUMMARY:ILUR - Kde hlina v súlade s prírodou získava dušu (marcové wor
 kshopy)
CLASS:PUBLIC
DESCRIPTION:Workshop pre dospelých aj deti\, pre začiatočníkov aj pokro
 čilých. V cene je zahrnutý materiál\, pomôc
DTSTAMP:20260420T081608Z
END:VEVENT
END:VCALENDAR