BEGIN:VCALENDAR
VERSION:2.0
PRODID:www.codnes.sk
BEGIN:VEVENT
UID:69e8c486387ca
DTSTART:20260422T150000Z
SEQUENCE:0
TRANSP:OPAQUE
DTEND:20260422T190000Z
LOCATION:Bratislava
SUMMARY:Jasné hranice vo firme - podpora dôvery\, rešpektu a výkonu
CLASS:PUBLIC
DESCRIPTION:Online workshop pre lídrov a HR o tom\, ako nastavovať a komu
 nikovať hranice tak\, aby podporovali spo
DTSTAMP:20260422T125222Z
END:VEVENT
END:VCALENDAR