BEGIN:VCALENDAR
VERSION:2.0
PRODID:www.codnes.sk
BEGIN:VEVENT
UID:69eb38f9791fd
DTSTART:20260425T143000Z
SEQUENCE:0
TRANSP:OPAQUE
DTEND:20260425T160000Z
LOCATION:Bratislava
SUMMARY:Je udržateľnosť v móde?
CLASS:PUBLIC
DESCRIPTION:Odevný priemysel patrí k najväčším znečisťovateľom\, n
 o zároveň prechádza výraznými zmenami smerom k
DTSTAMP:20260424T093345Z
END:VEVENT
END:VCALENDAR