BEGIN:VCALENDAR
VERSION:2.0
PRODID:www.codnes.sk
BEGIN:VEVENT
UID:69e735508db67
DTSTART:20260317T180000Z
SEQUENCE:0
TRANSP:OPAQUE
DTEND:20260317T193000Z
LOCATION:Bratislava
SUMMARY:Juhovýchodná Ázia: Pátranie po živých kmeňových jazykoch | 
 Cestománia
CLASS:PUBLIC
DESCRIPTION:V Juhovýchodnej Ázii sú stovky jazykov. Mnohé z nich však 
 vymierajú.Prečo sa to deje? Aké to má príč
DTSTAMP:20260421T082904Z
END:VEVENT
END:VCALENDAR