BEGIN:VCALENDAR
VERSION:2.0
PRODID:www.codnes.sk
BEGIN:VEVENT
UID:69e4d956c13c7
DTSTART:20260316T180000Z
SEQUENCE:0
TRANSP:OPAQUE
DTEND:20260316T220000Z
LOCATION:Bratislava
SUMMARY:Kapverdy
CLASS:PUBLIC
DESCRIPTION:KAPVERDY\"Voľnočasoví cestovatelia a naši susedia Veronika 
 &nbsp\;a Jakub &nbsp\;nám sprostredkujú veľm
DTSTAMP:20260419T133206Z
END:VEVENT
END:VCALENDAR