BEGIN:VCALENDAR
VERSION:2.0
PRODID:www.codnes.sk
BEGIN:VEVENT
UID:69e9e20cd7657
DTSTART:20260424T140000Z
SEQUENCE:0
TRANSP:OPAQUE
DTEND:20260424T180000Z
LOCATION:Bratislava
SUMMARY:KARLOVESKÝ ŠACHOVÝ TURNAJ
CLASS:PUBLIC
DESCRIPTION:Medzigeneračný turnaj pre všetkých priaznivcov šachu.Prihl
 ášky do 22.apríla 2026&nbsp\;zasielajte e-m
DTSTAMP:20260423T091036Z
END:VEVENT
END:VCALENDAR