BEGIN:VCALENDAR
VERSION:2.0
PRODID:www.codnes.sk
BEGIN:VEVENT
UID:69ec149a0fdd5
DTSTART:20260426T133000Z
SEQUENCE:0
TRANSP:OPAQUE
DTEND:20260426T144500Z
LOCATION:Bratislava
SUMMARY:Kateřina Steinerová & HER SWING BOYS
CLASS:PUBLIC
DESCRIPTION:Kapela Kateřiny Steinerovej je zložená z popredných český
 ch jazzmanov a už 10 rokov hrajú energické
DTSTAMP:20260425T011050Z
END:VEVENT
END:VCALENDAR