BEGIN:VCALENDAR
VERSION:2.0
PRODID:www.codnes.sk
BEGIN:VEVENT
UID:69ed1c3fce613
DTSTART:20260425T100000Z
SEQUENCE:0
TRANSP:OPAQUE
DTEND:20260425T180000Z
LOCATION:Bratislava
SUMMARY:Koľko lásky – maľovanie pohľadníc
CLASS:PUBLIC
DESCRIPTION:Zapojte sa do tvorivých aktivít\, ktoré spájajú generácie
  a prinášajú radosť. V stánku Koľko lásky si
DTSTAMP:20260425T195543Z
END:VEVENT
END:VCALENDAR