BEGIN:VCALENDAR
VERSION:2.0
PRODID:www.codnes.sk
BEGIN:VEVENT
UID:69ed1b9409707
DTSTART:20260425T090000Z
SEQUENCE:0
TRANSP:OPAQUE
DTEND:20260426T190000Z
LOCATION:Bratislava
SUMMARY:Komentované kŕmenia v ZOO počas BMD
CLASS:PUBLIC
DESCRIPTION:Počas Bratislavských mestských dní vás čakajú v ZOO Brat
 islava obľúbené komentované kŕmenia a stretn
DTSTAMP:20260425T195252Z
END:VEVENT
END:VCALENDAR