BEGIN:VCALENDAR
VERSION:2.0
PRODID:www.codnes.sk
BEGIN:VEVENT
UID:69e5f13e49ccd
DTSTART:20260421T170000Z
SEQUENCE:0
TRANSP:OPAQUE
DTEND:20260421T190000Z
LOCATION:Bratislava
SUMMARY:Komorný koncert dychových nástrojov
CLASS:PUBLIC
DESCRIPTION:Pozývame vás na večer venovaný kráse a farebnosti dychový
 ch nástrojov. Program spája francúzsku eleg
DTSTAMP:20260420T092622Z
END:VEVENT
END:VCALENDAR