BEGIN:VCALENDAR
VERSION:2.0
PRODID:www.codnes.sk
BEGIN:VEVENT
UID:69e5eff2bbbee
DTSTART:20260422T190000Z
SEQUENCE:0
TRANSP:OPAQUE
DTEND:20260422T235900Z
LOCATION:Modra
SUMMARY:Koncert Fragile & Peter Lipa
CLASS:PUBLIC
DESCRIPTION:Koncert FRAGILE &amp\; LIPA je jednoducho oslavou ľudského hl
 asu a ukážkou toho\, čo všetko je možné h
DTSTAMP:20260420T092050Z
END:VEVENT
END:VCALENDAR