BEGIN:VCALENDAR
VERSION:2.0
PRODID:www.codnes.sk
BEGIN:VEVENT
UID:69ea39b9614aa
DTSTART:20190912T190000Z
SEQUENCE:0
TRANSP:OPAQUE
DTEND:20190912T235900Z
LOCATION:Bratislava
SUMMARY:Koncert Milan André
CLASS:PUBLIC
DESCRIPTION:.koncert Milana André v .klube pod lampou.
DTSTAMP:20260423T152441Z
END:VEVENT
END:VCALENDAR