BEGIN:VCALENDAR
VERSION:2.0
PRODID:www.codnes.sk
BEGIN:VEVENT
UID:69e6e80cf3d1e
DTSTART:20190628T140000Z
SEQUENCE:0
TRANSP:OPAQUE
DTEND:20190628T180000Z
LOCATION:Nitra
SUMMARY:Konferencia TEDxYouth@Hidepark 2019
CLASS:PUBLIC
DESCRIPTION:Nechceš sa posledný školský deň nudiť ? Poď na TEDx !Už
  28. júna 2019 sa bude v kultúrnom centre Hid
DTSTAMP:20260421T025924Z
END:VEVENT
END:VCALENDAR