BEGIN:VCALENDAR
VERSION:2.0
PRODID:www.codnes.sk
BEGIN:VEVENT
UID:69e4cfce3f38b
DTSTART:20260606T180000Z
SEQUENCE:0
TRANSP:OPAQUE
LOCATION:Bratislava
SUMMARY:Kontrafakt Murdardo Mulano Tour po 20.rokoch
CLASS:PUBLIC
DESCRIPTION:Kontrafakt – Murdardo Mulano Tour 2026\n \nPo 20 rokoch lege
 nda opäť ožíva.\nKontrafakt sa vracia na pó
DTSTAMP:20260419T125126Z
END:VEVENT
END:VCALENDAR