BEGIN:VCALENDAR
VERSION:2.0
PRODID:www.codnes.sk
BEGIN:VEVENT
UID:69e732c0b084d
DTSTART:20260314T190000Z
SEQUENCE:0
TRANSP:OPAQUE
DTEND:20260314T235959Z
LOCATION:Bratislava
SUMMARY:Kopny! Buchny! Ric! ♿
CLASS:PUBLIC
DESCRIPTION:Sú herci vtipní alebo smiešni? A má bláznivý režisér v
 ždy pravdu?Bláznivá komédia o ešte bláznivejšo
DTSTAMP:20260421T081808Z
END:VEVENT
END:VCALENDAR