BEGIN:VCALENDAR
VERSION:2.0
PRODID:www.codnes.sk
BEGIN:VEVENT
UID:69ebaa56d774c
DTSTART:20260425T100000Z
SEQUENCE:0
TRANSP:OPAQUE
DTEND:20260425T170000Z
LOCATION:Bratislava
SUMMARY:Kreatívna zóna ZUŠ
CLASS:PUBLIC
DESCRIPTION:Objavte tvorbu žiakov výtvarných odborov ZUŠ a zapojte sa d
 o tvorivých dielní pre malých aj veľkých.
DTSTAMP:20260424T173726Z
END:VEVENT
END:VCALENDAR