BEGIN:VCALENDAR
VERSION:2.0
PRODID:www.codnes.sk
BEGIN:VEVENT
UID:69ed1b85f18f8
DTSTART:20260425T100000Z
SEQUENCE:0
TRANSP:OPAQUE
DTEND:20260426T180000Z
LOCATION:Bratislava
SUMMARY:Kreslíme bratislavskú ulicu
CLASS:PUBLIC
DESCRIPTION:Nakreslime spoločnými silami bratislavskú ulicu na dlhočizn
 ú rolku papiera! Pripojte sa\, malí i veľk
DTSTAMP:20260425T195237Z
END:VEVENT
END:VCALENDAR