BEGIN:VCALENDAR
VERSION:2.0
PRODID:www.codnes.sk
BEGIN:VEVENT
UID:69e747f2a5426
DTSTART:20260314T160000Z
SEQUENCE:0
TRANSP:OPAQUE
DTEND:20260314T170000Z
LOCATION:Bratislava
SUMMARY:Kúzelný svet rozprávok
CLASS:PUBLIC
DESCRIPTION:Príďte si užiť popoludnie si živou hudbou\, ktoré rozžia
 ri detské očká a prenesie vás do sveta fantáz
DTSTAMP:20260421T094834Z
END:VEVENT
END:VCALENDAR