BEGIN:VCALENDAR
VERSION:2.0
PRODID:www.codnes.sk
BEGIN:VEVENT
UID:69e60352b6bda
DTSTART:20260419T220000Z
SEQUENCE:0
TRANSP:OPAQUE
DTEND:20260420T015900Z
LOCATION:Bratislava
SUMMARY:Kvízový Večer s Michalom Vojtekom - Harry Potter ONLINE Špeciá
 l
CLASS:PUBLIC
DESCRIPTION:Ahojte!!&nbsp\;Som Michal a online kvízovanie so mnou pokraču
 je aj v roku 2026..Toto je ďalší nedeľný
DTSTAMP:20260420T104330Z
END:VEVENT
END:VCALENDAR