BEGIN:VCALENDAR
VERSION:2.0
PRODID:www.codnes.sk
BEGIN:VEVENT
UID:69ed3a224e500
DTSTART:20260426T203000Z
SEQUENCE:0
TRANSP:OPAQUE
LOCATION:Bratislava
SUMMARY:Let´s Dance 2026
CLASS:PUBLIC
DESCRIPTION:Zažite čaro Let’s Dance naživo! \n\n\nTelevízia Markíza
  pripravuje už 11. sériu legendárnej tanečnej š
DTSTAMP:20260425T220314Z
END:VEVENT
END:VCALENDAR