BEGIN:VCALENDAR
VERSION:2.0
PRODID:www.codnes.sk
BEGIN:VEVENT
UID:69e6cdd5c8175
DTSTART:20260613T160000Z
SEQUENCE:0
TRANSP:OPAQUE
DTEND:20260613T200000Z
LOCATION:Bratislava
SUMMARY:LEVITY Open Air x HUGEL
CLASS:PUBLIC
DESCRIPTION:🇸🇰 Slovak VersionHUGEL – aktuálne najžiadanejší Afr
 o/Latin House DJ na svete – prichádza po prvýkrát
DTSTAMP:20260421T010733Z
END:VEVENT
END:VCALENDAR