BEGIN:VCALENDAR
VERSION:2.0
PRODID:www.codnes.sk
BEGIN:VEVENT
UID:69e6cb1b5994b
DTSTART:20260428T180000Z
SEQUENCE:0
TRANSP:OPAQUE
DTEND:20260428T220000Z
LOCATION:Bratislava
SUMMARY:Májovica 2026
CLASS:PUBLIC
DESCRIPTION:Májovica je legendárne hudobno-kultúrne podujatie vytvorené
  študentmi pre študentov. Jedná sa o \"rei
DTSTAMP:20260421T005555Z
END:VEVENT
END:VCALENDAR