BEGIN:VCALENDAR
VERSION:2.0
PRODID:www.codnes.sk
BEGIN:VEVENT
UID:69e5f2d98b261
DTSTART:20240326T110000Z
SEQUENCE:0
TRANSP:OPAQUE
DTEND:99991231T005959Z
LOCATION:Bratislava
SUMMARY:Matej Krén: Pasáž. Stála expozícia v Galérii mesta Bratislavy
  Pálffyho paláci
CLASS:PUBLIC
DESCRIPTION:Projekt \"Pasáž\" predstavuje akúsi symbolickú \"skratku na
 prieč svetmi\"\, v ktorých existujeme či pobýv
DTSTAMP:20260420T093313Z
END:VEVENT
END:VCALENDAR