BEGIN:VCALENDAR
VERSION:2.0
PRODID:www.codnes.sk
BEGIN:VEVENT
UID:69e8e0661b3f0
DTSTART:20241108T200000Z
SEQUENCE:0
TRANSP:OPAQUE
DTEND:20241108T235900Z
LOCATION:Bratislava
SUMMARY:MEDIAL BANANA & HEĽENINE OČI - 8.11.2024 - BRATISLAVA - MMC
CLASS:PUBLIC
DESCRIPTION:Neuveriteľné sa stáva skutočnosťou a skutočnosť sa stáv
 a neuveriteľnou. Vesmír sa spojil a Pluto je
DTSTAMP:20260422T145118Z
END:VEVENT
END:VCALENDAR