BEGIN:VCALENDAR
VERSION:2.0
PRODID:www.codnes.sk
BEGIN:VEVENT
UID:69e4cff854de3
DTSTART:20260308T180000Z
SEQUENCE:0
TRANSP:OPAQUE
DTEND:20260308T220000Z
LOCATION:Bratislava
SUMMARY:MEDZI ZEMOU A...   Marek Brezovský (1974 – 1994)
CLASS:PUBLIC
DESCRIPTION:„Medzi dňom a zotmením\, nesiem svoj diel letov a pádo
 v...“&nbsp\;Mirka BREZOVSKÁ (Medzi zemou a...)&n
DTSTAMP:20260419T125208Z
END:VEVENT
END:VCALENDAR