BEGIN:VCALENDAR
VERSION:2.0
PRODID:www.codnes.sk
BEGIN:VEVENT
UID:69ed1b861e9ac
DTSTART:20260425T100000Z
SEQUENCE:0
TRANSP:OPAQUE
DTEND:20260425T170000Z
LOCATION:Bratislava
SUMMARY:Mesto v akcii
CLASS:PUBLIC
DESCRIPTION:Zažite mesto v pohybe a objavte\, ako funguje v situáciách\,
  keď ide o sekundy. Čakajú vás ukážky prác
DTSTAMP:20260425T195238Z
END:VEVENT
END:VCALENDAR