BEGIN:VCALENDAR
VERSION:2.0
PRODID:www.codnes.sk
BEGIN:VEVENT
UID:69ec0704146fd
DTSTART:20260426T093000Z
SEQUENCE:0
TRANSP:OPAQUE
DTEND:20260426T170000Z
LOCATION:Bratislava
SUMMARY:MiA Dance Festival Bratislava 2026
CLASS:PUBLIC
DESCRIPTION:MiA Dance Festival sa vracia v plnej sile na Slovensko! &nbsp\;
 MiA Dance Festival Bratislava &nbsp\;ťa
DTSTAMP:20260425T001252Z
END:VEVENT
END:VCALENDAR