BEGIN:VCALENDAR
VERSION:2.0
PRODID:www.codnes.sk
BEGIN:VEVENT
UID:69e8f17724504
DTSTART:20250326T200000Z
SEQUENCE:0
TRANSP:OPAQUE
LOCATION:Bratislava
SUMMARY:MIKE OLDFIELD – TUBULAR BELLS 2025
CLASS:PUBLIC
DESCRIPTION:Show MIKE OLDFIELD'S TUBULAR BELLS IN CONCERT\nuž v marci 202
 5 v Bratislave! \nVychutnajte si kultový
DTSTAMP:20260422T160407Z
END:VEVENT
END:VCALENDAR