BEGIN:VCALENDAR
VERSION:2.0
PRODID:www.codnes.sk
BEGIN:VEVENT
UID:69ec15250813d
DTSTART:20231201T193000Z
SEQUENCE:0
TRANSP:OPAQUE
DTEND:20231201T235900Z
LOCATION:Bratislava
SUMMARY:Mladé piatky: Lash & Grey ♿
CLASS:PUBLIC
DESCRIPTION:Duo speváčky Kristíny Mihaľovej s gitaristom Jakubom Šediv
 ým patrí medzi najvýraznejšie objavy slove
DTSTAMP:20260425T011309Z
END:VEVENT
END:VCALENDAR