BEGIN:VCALENDAR
VERSION:2.0
PRODID:www.codnes.sk
BEGIN:VEVENT
UID:69e6ef9ceb663
DTSTART:20260425T080000Z
SEQUENCE:0
TRANSP:OPAQUE
DTEND:20260425T120000Z
LOCATION:Modra
SUMMARY:MODRUN 2026 - charitatívny beh
CLASS:PUBLIC
DESCRIPTION:V Modre sa v sobotu 25. apríla 2026 okrem podujatia Slávnosť
  hliny-Keramická Modra uskutoční komunit
DTSTAMP:20260421T033140Z
END:VEVENT
END:VCALENDAR