BEGIN:VCALENDAR
VERSION:2.0
PRODID:www.codnes.sk
BEGIN:VEVENT
UID:69ebab276a01a
DTSTART:20260514T200000Z
SEQUENCE:0
TRANSP:OPAQUE
DTEND:20260514T210000Z
LOCATION:Bratislava
SUMMARY:Multimediálne predstavenie Palimpsest
CLASS:PUBLIC
DESCRIPTION:Performatívne multimediálne podujatie dvoch spolupracujúcich
  a vzájomne sa prelínajúcich zložiek\, vi
DTSTAMP:20260424T174055Z
END:VEVENT
END:VCALENDAR