BEGIN:VCALENDAR
VERSION:2.0
PRODID:www.codnes.sk
BEGIN:VEVENT
UID:69ec158c8e135
DTSTART:20230618T210000Z
SEQUENCE:0
TRANSP:OPAQUE
LOCATION:Bratislava
SUMMARY:NA SKLE MAĽOVANÉ - legendárny muzikál
CLASS:PUBLIC
DESCRIPTION:Legendárny muzikál NA SKLE MAĽOVANÉ sa vracia!\nKultový sl
 ovenský muzikál v réžii a choreografii Jána
DTSTAMP:20260425T011452Z
END:VEVENT
END:VCALENDAR