BEGIN:VCALENDAR
VERSION:2.0
PRODID:www.codnes.sk
BEGIN:VEVENT
UID:69e9e47f2b510
DTSTART:20260423T180000Z
SEQUENCE:0
TRANSP:OPAQUE
DTEND:20260423T210000Z
LOCATION:Bratislava
SUMMARY:NAMAĽUJ SI DJ SET - TEMPO PALETTONE
CLASS:PUBLIC
DESCRIPTION:Po všetkých vypredaných letných termínoch sa vraciame s na
 šim workshopom v trochu intímnejšom a prav
DTSTAMP:20260423T092103Z
END:VEVENT
END:VCALENDAR