BEGIN:VCALENDAR
VERSION:2.0
PRODID:www.codnes.sk
BEGIN:VEVENT
UID:69e5f154db331
DTSTART:20260420T200000Z
SEQUENCE:0
TRANSP:OPAQUE
LOCATION:Bratislava
SUMMARY:Naruto – inštrumentálna hudba pri sviečkach
CLASS:PUBLIC
DESCRIPTION:Naruto – inštrumentálna hudba pri sviečkach\nNajslávnejš
 ie hudobné témy zo seriálov Naruto a Naruto S
DTSTAMP:20260420T092644Z
END:VEVENT
END:VCALENDAR