BEGIN:VCALENDAR
VERSION:2.0
PRODID:www.codnes.sk
BEGIN:VEVENT
UID:69e6cd2de330d
DTSTART:20260429T220000Z
SEQUENCE:0
TRANSP:OPAQUE
DTEND:20260429T235900Z
LOCATION:Bratislava
SUMMARY:NITE \"Ctrl+Alt+Delete\" x UNIK mlyny
CLASS:PUBLIC
DESCRIPTION:Po minulej úspešnej akcii v UNIKu sa vraciame!&nbsp\;
DTSTAMP:20260421T010445Z
END:VEVENT
END:VCALENDAR