BEGIN:VCALENDAR
VERSION:2.0
PRODID:www.codnes.sk
BEGIN:VEVENT
UID:69e5f0ed0cc86
DTSTART:20260309T190000Z
SEQUENCE:0
TRANSP:OPAQUE
DTEND:20260309T235959Z
LOCATION:Bratislava
SUMMARY:Noc v Istanbule ♿
CLASS:PUBLIC
DESCRIPTION:Žena\, suka\, dlaň\, kosť.Mladá autorka prichádza do Istan
 bulu. Do mesta tisíc a&nbsp\;jednej noci. Chce
DTSTAMP:20260420T092501Z
END:VEVENT
END:VCALENDAR