BEGIN:VCALENDAR
VERSION:2.0
PRODID:www.codnes.sk
BEGIN:VEVENT
UID:69ed3b478e0ac
DTSTART:20260426T100000Z
SEQUENCE:0
TRANSP:OPAQUE
DTEND:20260426T110000Z
LOCATION:Bratislava
SUMMARY:Novomestská rodinná nedeľa: Poštár Vinco
CLASS:PUBLIC
DESCRIPTION:Divadielko pre deti: Poštár VincoPozývame všetky deti aj ro
 dičov na veselé predstavenie\, ktoré vás o
DTSTAMP:20260425T220807Z
END:VEVENT
END:VCALENDAR