BEGIN:VCALENDAR
VERSION:2.0
PRODID:www.codnes.sk
BEGIN:VEVENT
UID:69e732cbef708
DTSTART:20250704T213000Z
SEQUENCE:0
TRANSP:OPAQUE
DTEND:20250808T223000Z
LOCATION:Bratislava
SUMMARY:Novomestské letné kino
CLASS:PUBLIC
DESCRIPTION:NOVOMESTSKÉ LETNÉ KINOTradičné večerné filmové premietan
 ia pod holým nebom tento rok do Nového Mesta
DTSTAMP:20260421T081819Z
END:VEVENT
END:VCALENDAR