BEGIN:VCALENDAR
VERSION:2.0
PRODID:www.codnes.sk
BEGIN:VEVENT
UID:69ed2bfa5ebcc
DTSTART:20260425T100000Z
SEQUENCE:0
TRANSP:OPAQUE
DTEND:20260426T180000Z
LOCATION:Bratislava
SUMMARY:OLO auto
CLASS:PUBLIC
DESCRIPTION:Sedel*a si už v smetiarskom aute? Príď do Sadu Janka Kráľa
  a vyskúšaj si\, aké je to byť smetiarom či
DTSTAMP:20260425T210250Z
END:VEVENT
END:VCALENDAR