BEGIN:VCALENDAR
VERSION:2.0
PRODID:www.codnes.sk
BEGIN:VEVENT
UID:69e7465e6aa38
DTSTART:20260312T183000Z
SEQUENCE:0
TRANSP:OPAQUE
DTEND:20260312T223000Z
LOCATION:Bratislava
SUMMARY:Oslavujeme MDŽ: SEXUÁLNE ZDRAVIE ŽENY
CLASS:PUBLIC
DESCRIPTION:Oslavujeme MDŽ: SEXUÁLNE ZDRAVIE ŽENYZdruženie InTYMYta vá
 m&nbsp\; pripravila workshop\, kde odborne o
DTSTAMP:20260421T094150Z
END:VEVENT
END:VCALENDAR