BEGIN:VCALENDAR
VERSION:2.0
PRODID:www.codnes.sk
BEGIN:VEVENT
UID:69ed2cd0be695
DTSTART:20260425T100000Z
SEQUENCE:0
TRANSP:OPAQUE
DTEND:20260426T180000Z
LOCATION:Bratislava
SUMMARY:Otvorená knižnica s registráciou zdarma
CLASS:PUBLIC
DESCRIPTION:Mestská knižnica v Bratislave je výnimočne otvorená aj cez
  víkend\, a to od 10:00 do 18:00. Okrem boh
DTSTAMP:20260425T210624Z
END:VEVENT
END:VCALENDAR