BEGIN:VCALENDAR
VERSION:2.0
PRODID:www.codnes.sk
BEGIN:VEVENT
UID:69ebab166c8eb
DTSTART:20260425T100000Z
SEQUENCE:0
TRANSP:OPAQUE
DTEND:20260425T110000Z
LOCATION:Bratislava
SUMMARY:Otvorené budovy: Bratislavské mestské dni 2026 vo Francúzskom i
 nštitúte
CLASS:PUBLIC
DESCRIPTION:Kúsok Francúzska v srdci BratislavyPríďte si vychutnať jed
 inečnú atmosféru Francúzska priamo v centr
DTSTAMP:20260424T174038Z
END:VEVENT
END:VCALENDAR